BEGIN:VCALENDAR
VERSION:2.0
PRODID:-//St. Andrew&#039;s Episcopal Church - ECPv6.13.2.1//NONSGML v1.0//EN
CALSCALE:GREGORIAN
METHOD:PUBLISH
X-ORIGINAL-URL:https://sandbox.standrewswellesley.org
X-WR-CALDESC:Events for St. Andrew&#039;s Episcopal Church
REFRESH-INTERVAL;VALUE=DURATION:PT1H
X-Robots-Tag:noindex
X-PUBLISHED-TTL:PT1H
BEGIN:VTIMEZONE
TZID:America/New_York
BEGIN:DAYLIGHT
TZOFFSETFROM:-0500
TZOFFSETTO:-0400
TZNAME:EDT
DTSTART:20250309T070000
END:DAYLIGHT
BEGIN:STANDARD
TZOFFSETFROM:-0400
TZOFFSETTO:-0500
TZNAME:EST
DTSTART:20251102T060000
END:STANDARD
END:VTIMEZONE
BEGIN:VEVENT
DTSTART;TZID=America/New_York:20250807T094500
DTEND;TZID=America/New_York:20250807T110000
DTSTAMP:20260419T081047
CREATED:20200914T174335Z
LAST-MODIFIED:20250715T200159Z
UID:10004208-1754559900-1754564400@sandbox.standrewswellesley.org
SUMMARY:Church School Committee Meeting
DESCRIPTION:
URL:https://sandbox.standrewswellesley.org/event/church-school-committee/2025-08-07/
LOCATION:Harvey Room\, 79 Denton Road\, Wellesley\, MA\, 02482\, United States
CATEGORIES:Christian Learning,Meetings and Events
ATTACH;FMTTYPE=image/jpeg:https://sandbox.standrewswellesley.org/wp-content/uploads/2020/08/Anna-Lee-Wahls-HomeSchool.jpg
ORGANIZER;CN="Rev. Sarah Robbins-Cole":MAILTO:sarah@standrewswellesley.org
GEO:42.2931594;-71.2944039
X-APPLE-STRUCTURED-LOCATION;VALUE=URI;X-ADDRESS=Harvey Room 79 Denton Road Wellesley MA 02482 United States;X-APPLE-RADIUS=500;X-TITLE=79 Denton Road:geo:-71.2944039,42.2931594
END:VEVENT
BEGIN:VEVENT
DTSTART;TZID=America/New_York:20250816T080000
DTEND;TZID=America/New_York:20250816T090000
DTSTAMP:20260419T081047
CREATED:20250701T150924Z
LAST-MODIFIED:20250811T165149Z
UID:10004171-1755331200-1755334800@sandbox.standrewswellesley.org
SUMMARY:Men's Bible Study
DESCRIPTION:All men are invited to join the Men’s Bible Study on the first and third Saturday mornings of the month at 8am. Bring your coffee and join us on Zoom. There is no homework. If you have any questions please contact Adrian. \nJoin the Zoom Meeting by clicking here.
URL:https://sandbox.standrewswellesley.org/event/mens-bible-study-3/2025-08-16/
LOCATION:St. Andrew’s\, 79 Denton Road\, Wellesley\, MA\, 02482\, United States
CATEGORIES:Christian Learning
ATTACH;FMTTYPE=image/jpeg:https://sandbox.standrewswellesley.org/wp-content/uploads/2016/10/bible-event.jpg
GEO:42.2931594;-71.2944039
X-APPLE-STRUCTURED-LOCATION;VALUE=URI;X-ADDRESS=St. Andrew’s 79 Denton Road Wellesley MA 02482 United States;X-APPLE-RADIUS=500;X-TITLE=79 Denton Road:geo:-71.2944039,42.2931594
END:VEVENT
END:VCALENDAR